BEGIN:VCALENDAR
VERSION:2.0
PRODID:-//Elgin Youth Symphony Orchestras - ECPv6.15.20//NONSGML v1.0//EN
CALSCALE:GREGORIAN
METHOD:PUBLISH
X-WR-CALNAME:Elgin Youth Symphony Orchestras
X-ORIGINAL-URL:https://www.eyso.org
X-WR-CALDESC:Events for Elgin Youth Symphony Orchestras
REFRESH-INTERVAL;VALUE=DURATION:PT1H
X-Robots-Tag:noindex
X-PUBLISHED-TTL:PT1H
BEGIN:VTIMEZONE
TZID:America/Chicago
BEGIN:DAYLIGHT
TZOFFSETFROM:-0600
TZOFFSETTO:-0500
TZNAME:CDT
DTSTART:20220313T080000
END:DAYLIGHT
BEGIN:STANDARD
TZOFFSETFROM:-0500
TZOFFSETTO:-0600
TZNAME:CST
DTSTART:20221106T070000
END:STANDARD
BEGIN:DAYLIGHT
TZOFFSETFROM:-0600
TZOFFSETTO:-0500
TZNAME:CDT
DTSTART:20230312T080000
END:DAYLIGHT
BEGIN:STANDARD
TZOFFSETFROM:-0500
TZOFFSETTO:-0600
TZNAME:CST
DTSTART:20231105T070000
END:STANDARD
BEGIN:DAYLIGHT
TZOFFSETFROM:-0600
TZOFFSETTO:-0500
TZNAME:CDT
DTSTART:20240310T080000
END:DAYLIGHT
BEGIN:STANDARD
TZOFFSETFROM:-0500
TZOFFSETTO:-0600
TZNAME:CST
DTSTART:20241103T070000
END:STANDARD
END:VTIMEZONE
BEGIN:VEVENT
DTSTART;VALUE=DATE:20231215
DTEND;VALUE=DATE:20231216
DTSTAMP:20260421T052201
CREATED:20230924T233217Z
LAST-MODIFIED:20231115T013001Z
UID:10000714-1702598400-1702684799@www.eyso.org
SUMMARY:Merry Merry Chicago
DESCRIPTION:Pre-concert and intermission performances in the lobby of the Theodore Thomas Orchestra Hall.
URL:https://www.eyso.org/event/merry-merry-chicago
LOCATION:Theodore Thomas Orchestra Hall\, 220 S Michigan Avenue\, Chicago\, IL\, 60604\, United States
CATEGORIES:Concerts,In the Community
ATTACH;FMTTYPE=image/jpeg:https://www.eyso.org/wp-content/uploads/2023/11/IMG_5460-scaled-e1700011680190.jpg
END:VEVENT
END:VCALENDAR